BEGIN:VCALENDAR
VERSION:2.0
PRODID:-//Medias Maratones Espana - ECPv6.15.20//NONSGML v1.0//EN
CALSCALE:GREGORIAN
METHOD:PUBLISH
X-ORIGINAL-URL:https://mediasmaratonesespana.eu.com
X-WR-CALDESC:Events for Medias Maratones Espana
REFRESH-INTERVAL;VALUE=DURATION:PT1H
X-Robots-Tag:noindex
X-PUBLISHED-TTL:PT1H
BEGIN:VTIMEZONE
TZID:Europe/Madrid
BEGIN:DAYLIGHT
TZOFFSETFROM:+0100
TZOFFSETTO:+0200
TZNAME:CEST
DTSTART:20250330T010000
END:DAYLIGHT
BEGIN:STANDARD
TZOFFSETFROM:+0200
TZOFFSETTO:+0100
TZNAME:CET
DTSTART:20251026T010000
END:STANDARD
BEGIN:DAYLIGHT
TZOFFSETFROM:+0100
TZOFFSETTO:+0200
TZNAME:CEST
DTSTART:20260329T010000
END:DAYLIGHT
BEGIN:STANDARD
TZOFFSETFROM:+0200
TZOFFSETTO:+0100
TZNAME:CET
DTSTART:20261025T010000
END:STANDARD
BEGIN:DAYLIGHT
TZOFFSETFROM:+0100
TZOFFSETTO:+0200
TZNAME:CEST
DTSTART:20270328T010000
END:DAYLIGHT
BEGIN:STANDARD
TZOFFSETFROM:+0200
TZOFFSETTO:+0100
TZNAME:CET
DTSTART:20271031T010000
END:STANDARD
END:VTIMEZONE
BEGIN:VEVENT
DTSTART;TZID=Europe/Madrid:20260118T103000
DTEND;TZID=Europe/Madrid:20260118T170000
DTSTAMP:20260420T211717
CREATED:20251227T195842Z
LAST-MODIFIED:20251230T171903Z
UID:36-1768732200-1768755600@mediasmaratonesespana.eu.com
SUMMARY:Half Marathon Santa Pola - 18. January 2026
DESCRIPTION:Join us for the Santa Pola Half Marathon on Sunday\, 18th January 2026 at 10:30\, where Mediterranean charm meets athletic challenge along the stunning Costa Blanca. \nThe Course\nStarting from the harbour car park on Fernando Pérez Ojeda Street\, you’ll embark on a scenic 21.0975km single-loop journey through the heart of Santa Pola. The route takes you westward through the town centre before heading along a main road between kilometres 2 and 4. A distinctive hairpin turn around one of the harbour’s jetties offers a unique maritime atmosphere and picturesque views. \nFrom 8km onwards\, you’ll run between the Mediterranean Sea and charming seaside villas until the 10km mark—an idyllic stretch with breathtaking coastal vistas. A left turn brings you back towards the town centre via Almirante Antequera Street\, passing a children’s playground surrounded by welcome greenery around the 15km point. The final three kilometres follow the same route as kilometres 4\, 5\, and 6\, ensuring a familiar finish on recognisable terrain. \nRace Details\nDistance: Half Marathon (21.0975km)\nDate: Sunday\, 18th January 2026\nStart Time: 10:30\nLocation: Fernando Pérez Ojeda Street\, Santa Pola \nRegistration Fees\n\n1st September – 31st October 2025: €27\n1st November – 31st December 2025: €30\n1st January – 14th January 2026 (up to 7\,000 runners): €35\nAfter 7\,000 registrations: €40\n\nRace Pack Collection\nCollect your race number at the Runners’ Fair\, held at Santa Pola’s Castle-Fort: \n\nFriday\, 16th January: 17:00–20:30\nSaturday\, 17th January: 10:00–20:00\n\nOn the Course\nRefreshment Stations: Located at 5km\, 10km\, 15km\, and 20km\nFacilities: Changing rooms and secure baggage storage provided \nImportant Information\nAge Requirement: Participants must be at least 18 years old \nLicensing: In Spain\, you’ll need either a national RFEA licence or a FACV card from the Valencian Community to participate in official events. If you don’t have one\, an additional €3 fee will be charged during registration to obtain this. \nMedical Certificate: Not mandatory \nExperience the perfect blend of coastal beauty\, urban atmosphere\, and athletic achievement at the Santa Pola Half Marathon—where every kilometre offers something special! 🏃‍♂️🌊 \n \n 
URL:https://mediasmaratonesespana.eu.com/event/half-marathon-santa-pola/
CATEGORIES:Alicante
ATTACH;FMTTYPE=image/webp:https://mediasmaratonesespana.eu.com/wp-content/uploads/2025/12/half-marathon-santa-pola.webp
END:VEVENT
END:VCALENDAR