BEGIN:VCALENDAR
VERSION:2.0
PRODID:-//Medias Maratones Espana - ECPv6.15.20//NONSGML v1.0//EN
CALSCALE:GREGORIAN
METHOD:PUBLISH
X-ORIGINAL-URL:https://mediasmaratonesespana.eu.com
X-WR-CALDESC:Events for Medias Maratones Espana
REFRESH-INTERVAL;VALUE=DURATION:PT1H
X-Robots-Tag:noindex
X-PUBLISHED-TTL:PT1H
BEGIN:VTIMEZONE
TZID:Europe/Madrid
BEGIN:DAYLIGHT
TZOFFSETFROM:+0100
TZOFFSETTO:+0200
TZNAME:CEST
DTSTART:20250330T010000
END:DAYLIGHT
BEGIN:STANDARD
TZOFFSETFROM:+0200
TZOFFSETTO:+0100
TZNAME:CET
DTSTART:20251026T010000
END:STANDARD
BEGIN:DAYLIGHT
TZOFFSETFROM:+0100
TZOFFSETTO:+0200
TZNAME:CEST
DTSTART:20260329T010000
END:DAYLIGHT
BEGIN:STANDARD
TZOFFSETFROM:+0200
TZOFFSETTO:+0100
TZNAME:CET
DTSTART:20261025T010000
END:STANDARD
BEGIN:DAYLIGHT
TZOFFSETFROM:+0100
TZOFFSETTO:+0200
TZNAME:CEST
DTSTART:20270328T010000
END:DAYLIGHT
BEGIN:STANDARD
TZOFFSETFROM:+0200
TZOFFSETTO:+0100
TZNAME:CET
DTSTART:20271031T010000
END:STANDARD
END:VTIMEZONE
BEGIN:VEVENT
DTSTART;TZID=Europe/Madrid:20260412T083000
DTEND;TZID=Europe/Madrid:20260412T120000
DTSTAMP:20260420T192541
CREATED:20260111T173851Z
LAST-MODIFIED:20260111T173851Z
UID:157-1775982600-1775995200@mediasmaratonesespana.eu.com
SUMMARY:Half Marathon Almeria - 12. April 2026
DESCRIPTION:Almería Half Marathon – 12th April 2026\nDiscover the perfect blend of Mediterranean coastline and vibrant city running in sunny Almería! \nDistances Available \n\nHalf Marathon – 21.0975km\n10km – Perfect for all levels\n\nThe Course \nStarting from the iconic Palacio de los Juegos Mediterráneos in central Almería\, your journey begins with a pleasant descent southward toward sea level and the stunning Mediterranean coast. \n\n \nRoute Highlights \nBetween kilometres 5 and 10\, follow the beautiful Mediterranean coastline from east to west on predominantly flat terrain – the perfect opportunity to push your pace! \nAt 12km\, reach the furthest point of the course at the picturesque harbour along Rue Nicolás Salmerón\, then begin your return journey alongside the sea. \nAfter refreshments at 13km\, pass the moving Memorial Park for Victims of Terrorism before continuing along Avenida Cabo de Gata. At 17km\, turn back toward the city centre for the only modest climb of the course\, concentrated in the final kilometres. \n \nFinish strong through the city’s grand avenues before returning to your starting point on Calle Alcalde Santiago Martínez Cabrejas! \nEvent Details \n\nDate: Sunday\, 12th April 2026\nStart Times:\n\nHalf Marathon: 8:30 (Calle Alcalde Santiago Martínez Cabrejas)\n10km: 9:00 (Palacio de los Juegos Mediterráneos)\n\n\nCourse: 1 loop × 21.0975km\nTerrain: Predominantly flat with stunning coastal views\n\nWhy Choose Almería? \nMediterranean coastline – Run alongside pristine beaches\nCity atmosphere – Experience vibrant urban energy\nNatural beauty – Stunning landscapes throughout\nPerfect spring weather – Ideal racing conditions \nAge Requirements \n\nHalf Marathon: 18+ years on race day\n10km: 14+ years on race day\n\nRegistration Fees\nHalf Marathon: \n\nLevel 1: €21 (first 700 entries or until 1st December 2025)\nLevel 2: €24 (2nd–25th December 2025)\nLevel 3: €27 (26th December 2025–14th January 2026)\nLevel 4: €30 (15th January–30th March 2026)\nLate registration: €35\n\n10km: \n\nLevel 1: €15 (first 300 entries or until 1st December 2025)\nLevel 2: €17 (2nd–25th December 2025)\nLevel 3: €19 (26th December 2025–14th January 2026)\nLevel 4: €21 (15th January–30th March 2026)\nLate registration: €23\n\nAdd €3 for a one-day licence if you don’t hold an RFEA federation licence. \nTime Limits \nHalf Marathon: \n\n5km: 35 minutes\n10km: 1 hour 10 minutes\n15km: 1 hour 45 minutes\n20km: 2 hours 20 minutes\n\n10km: \n\n2km: 30 minutes\n4km: 1 hour\n6km: 1 hour 30 minutes\n\nOn-Course Support \nStay refreshed with hydration stations at: \n\nKilometres 4\, 7\, 13\, 17\, and 20\n\nWhat’s Included\n✓ 2026 sublimated technical race shirt\n✓ Gift pack\n✓ On-course and post-race refreshments\n✓ Finisher’s medal\n✓ Professional chip timing\n✓ Real-time race tracking via app\n✓ Insurance coverage (via RFEA licence) \nRace Day Facilities \n✓ Changing rooms\n✓ Showers\n✓ Bag storage \nBib Collection \nCollection locations and times will be announced a few days before the race. Bibs can be collected on race day up to 1 hour before your start time. \nMedical Certificate \nNot mandatory but strongly recommended. You’ll need to accept a declaration of good physical health during registration. \nRegister Now \nSecure your place in this spectacular Mediterranean half marathon and experience the perfect combination of coastal beauty\, sunshine\, and Spanish hospitality! \nBook early to enjoy the best prices – limited spots available at each tier!
URL:https://mediasmaratonesespana.eu.com/event/half-marathon-almeria/
CATEGORIES:Andalusia
ATTACH;FMTTYPE=image/webp:https://mediasmaratonesespana.eu.com/wp-content/uploads/2026/01/half-marathon-almeria.webp
END:VEVENT
BEGIN:VEVENT
DTSTART;TZID=Europe/Madrid:20260315T081500
DTEND;TZID=Europe/Madrid:20260315T170000
DTSTAMP:20260420T192541
CREATED:20260104T220425Z
LAST-MODIFIED:20260104T220425Z
UID:128-1773562500-1773594000@mediasmaratonesespana.eu.com
SUMMARY:Half Marathon Malaga - 15. March 2026
DESCRIPTION:Málaga Half Marathon 2026\nJoin the coastal running celebration at the Málaga Half Marathon on Sunday\, 15th March 2026 at 8:15\, where 2\,000+ runners take on one of Spain’s flattest and fastest seaside courses along the stunning Costa del Sol. \nThe Course\nThe Málaga Half Marathon starts at 8:15 on Paseo del Parque in the heart of Málaga Park. Over 21km\, you’ll run alongside the coast\, admiring the sparkling Mediterranean Sea throughout your journey. The route forms a scenic loop starting at the Hotel Ilunion roundabout\, where you’ll turn left and head towards the city’s harbour along Paseo Marítimo Antonio Machado. \nYou’ll then follow Paseo de la Farola\, giving you the chance to pass the famous lighthouse! As you continue\, you’ll run past and through some of the city’s most iconic monuments. After a series of turns and loops along the waterfront\, you’ll return via Playa de La Malagueta beach and head straight back to Málaga Park\, where you’ll cross the finish line! \nCourse Profile: Single 21.0975km loop with just 24m elevation gain—ideal for personal bests!\nRecent Event: 2\,000+ runners \nRace Details\nDistance: Half Marathon (21.0975km)\nDate: Sunday\, 15th March 2026\nStart Time: 8:15\nStart Location: Paseo del Parque\, Málaga\nTime Limit: 3 hours from the official start (2 hours 50 minutes chip time) \nRace Pack Collection\nCollect your race number at the Expo held at Málaga Stadium’s indoor track: \n\nFriday\, 13th March 2026: 10:00–20:00\nSaturday\, 14th March 2026: 10:00–20:00\n\nOn the Course\nRefreshment Stations: Located at 5km\, 10km\, 13km\, 16km\, 18.5km\, and at the finish line. \n \n \nTime Limits & Checkpoints\nImportant checkpoints to ensure you stay within the time limits: \n\n5km: 40 minutes\n10km: 1 hour 20 minutes\n15km: 2 hours\n20km: 2 hours 40 minutes\nFinish: 2 hours 50 minutes (chip time)\n\nFacilities\nBaggage Storage: Free lockers available on Sunday\, 15th March from 6:45 to 11:45 \nToilets: Available at the start\, finish line\, and at certain refreshment stations \nAwards & Prizes\nCash Prizes for the top three male and female finishers: \n\n1st Place: €2\,500\n2nd Place: €1\,500\n3rd Place: €1\,000\n\nEvery finisher receives a medal at the finish line! \nGet Involved\nVolunteer Opportunities: Want to help make this event special? Complete the volunteer form available on the race website. \nAge Requirements\nMinimum Age: Must be 18 years old or older to participate \nContact Information\nEmail: info@mediamaratonmalaga.com \nRace Regulations: Full regulations available on the official website \nExperience the perfect blend of Mediterranean beauty\, coastal running\, and Andalusian warmth at the Málaga Half Marathon. With its pancake-flat course\, stunning sea views\, and famous lighthouse landmark\, this race offers everything you need for a fast time and an unforgettable Spanish running adventure!
URL:https://mediasmaratonesespana.eu.com/event/half-marathon-malaga/
CATEGORIES:Andalusia
ATTACH;FMTTYPE=image/webp:https://mediasmaratonesespana.eu.com/wp-content/uploads/2026/01/malaga-half-marathon.webp
END:VEVENT
BEGIN:VEVENT
DTSTART;TZID=Europe/Madrid:20260125T090000
DTEND;TZID=Europe/Madrid:20260125T170000
DTSTAMP:20260420T192541
CREATED:20251227T202034Z
LAST-MODIFIED:20251230T171809Z
UID:53-1769331600-1769360400@mediasmaratonesespana.eu.com
SUMMARY:Half Marathon Sevilla - 25. January 2026
DESCRIPTION:Experience the magic of Andalusia’s capital at the Seville Half Marathon on Sunday\, 25th January 2026 at 9:00\, where historic charm and riverside running combine in one of Spain’s most captivating cities. \nThe Course\nStarting from Paseo de las Delicias\, you’ll embark on a spectacular 21km journey through Seville’s enchanting streets! The first 4 kilometres take you along the banks of the Guadalquivir River\, offering stunning riverside views before crossing a bridge to return along the opposite bank. \nYou’ll venture into the heart of the city until the 12km mark\, where another bridge crossing awaits. The next 4 kilometres retrace the route of the opening kilometres before heading northward until kilometre 17. From here\, it’s time to push towards the finish line as you weave through Seville’s charming streets and alleyways! An exceptional finish awaits you back at Paseo de las Delicias promenade! 🏁 \nCourse Profile: Single 21.0975km loop with just 26m of elevation gain—ideal for personal bests! \nRace Details\nDistance: Half Marathon (21.0975km)\nDate: Sunday\, 25th January 2026\nStart Time: 9:00\nLocation: Paseo de las Delicias\, Seville\nTime Limit: 3 hours \nRace Pack Collection\nCollect your race pack and bib number on 23rd and 24th January 2026 between 10:00 and 20:00. The exact location will be confirmed closer to the event. \nOn the Course\nRefreshment Stations: Located at 5km\, 10km\, 15.5km\, 18.5km\, and at the finish line\nFacilities: Details to be confirmed \nAwards\nPrizes will be presented to: \n\nTop 3 male finishers\nTop 3 female finishers\nTop 3 wheelchair participants\n\nImportant Information\nFull race regulations are available on the official website. \nRun through the historic streets of Seville\, alongside the iconic Guadalquivir River\, and experience the perfect blend of culture\, history\, and athletic achievement in one of Spain’s most beautiful cities!
URL:https://mediasmaratonesespana.eu.com/event/half-marathon-sevilla/
CATEGORIES:Andalusia
ATTACH;FMTTYPE=image/webp:https://mediasmaratonesespana.eu.com/wp-content/uploads/2025/12/half-marathon-sevilla.webp
END:VEVENT
END:VCALENDAR