BEGIN:VCALENDAR
VERSION:2.0
PRODID:-//Medias Maratones Espana - ECPv6.15.20//NONSGML v1.0//EN
CALSCALE:GREGORIAN
METHOD:PUBLISH
X-ORIGINAL-URL:https://mediasmaratonesespana.eu.com
X-WR-CALDESC:Events for Medias Maratones Espana
REFRESH-INTERVAL;VALUE=DURATION:PT1H
X-Robots-Tag:noindex
X-PUBLISHED-TTL:PT1H
BEGIN:VTIMEZONE
TZID:Europe/Madrid
BEGIN:DAYLIGHT
TZOFFSETFROM:+0100
TZOFFSETTO:+0200
TZNAME:CEST
DTSTART:20250330T010000
END:DAYLIGHT
BEGIN:STANDARD
TZOFFSETFROM:+0200
TZOFFSETTO:+0100
TZNAME:CET
DTSTART:20251026T010000
END:STANDARD
BEGIN:DAYLIGHT
TZOFFSETFROM:+0100
TZOFFSETTO:+0200
TZNAME:CEST
DTSTART:20260329T010000
END:DAYLIGHT
BEGIN:STANDARD
TZOFFSETFROM:+0200
TZOFFSETTO:+0100
TZNAME:CET
DTSTART:20261025T010000
END:STANDARD
BEGIN:DAYLIGHT
TZOFFSETFROM:+0100
TZOFFSETTO:+0200
TZNAME:CEST
DTSTART:20270328T010000
END:DAYLIGHT
BEGIN:STANDARD
TZOFFSETFROM:+0200
TZOFFSETTO:+0100
TZNAME:CET
DTSTART:20271031T010000
END:STANDARD
END:VTIMEZONE
BEGIN:VEVENT
DTSTART;TZID=Europe/Madrid:20260412T100000
DTEND;TZID=Europe/Madrid:20260412T130000
DTSTAMP:20260420T205544
CREATED:20260108T224245Z
LAST-MODIFIED:20260108T224412Z
UID:142-1775988000-1775998800@mediasmaratonesespana.eu.com
SUMMARY:Half Marathon San Sebastián-Donostia - 12. April 2026
DESCRIPTION:Donostia-San Sebastián Half Marathon 12th April 2026\nExperience the ultimate coastal running adventure through one of Spain’s most beautiful cities! \nDistances for Every Runner \nChoose your challenge: \n\nHalf Marathon – 21.0975km\n10km – Perfect for all abilities\n\nThe Course\nDiscover a spectacular single-loop route starting from the iconic Boulevard in the heart of Donostia. With just 38m of elevation gain\, this predominantly flat course offers the perfect opportunity for personal bests whilst showcasing the stunning Basque coastline and vibrant city centre. \n\n \nEvent Details \n\nDate: Sunday\, 12th April 2026\nStart Time: 10:00\nStart Location: Boulevard\, Donostia-San Sebastián\nCourse Profile: 1 loop × 21.0975km (Half Marathon)\nElevation Gain: 38m\nTime Limit: 2 hours 30 minutes (both distances)\n\nPlease note: Half marathon runners who reach the first lap finish line (10.5km) in over 1 hour 30 minutes will be required to leave the course. \nWhy Choose Donostia?\n🌊 Stunning coastal scenery – Run alongside beautiful beaches 🏙️ Major city experience – Vibrant capital of the Basque Country 🏘️ Urban running at its finest – Through charming city streets ⏱️ Fast\, flat course – Ideal for achieving your goals \nAge Requirements \n\nHalf Marathon: 18+ years\n10km: 16+ years\n\nRegistration Fees \n\nHalf Marathon: €27\n10km: €18\n\nBib Collection \nCollect your race number on 10th or 11th April 2026 during shop opening hours from any of these convenient locations: \n\nDonostia: Deportes Apalategui\nBilbao: Intersport San Mamés\nVitoria: Running Fiz\nPamplona: Zariquiegui\nEibar: Intersport Askasibar\nIrun: Leire Sport\nToulouse: Shanti Kirolak\nSantander: Sapporo Sports\nLogroño: Deportes Ferrer\nZumarraga: Sports Apalategui\n\nPlease bring valid ID for collection. \nRace Day Facilities \nAvailable from 8:30–13:30: ✓ Bag storage ✓ Showers ✓ Changing rooms \nOn-Course Support \nStay hydrated throughout your race: \n\nWater stations: 5km\, 10km\, and 15km\nPowerade stations: 7.5km and 12.5km\n\nWhat You’ll Experience\nRun through the stunning streets of San Sebastián\, known for its world-class cuisine\, pristine beaches\, and Belle Époque architecture. This course offers the perfect combination of coastal beauty and urban energy\, making it one of Spain’s most sought-after spring races. \nRegister Now \nSecure your place in this magnificent Basque coastal half marathon and discover why runners from across Europe choose Donostia-San Sebastián! \nFor full race regulations and details\, visit the official website.
URL:https://mediasmaratonesespana.eu.com/event/half-marathon-san-sebastian/
CATEGORIES:Basque
ATTACH;FMTTYPE=image/webp:https://mediasmaratonesespana.eu.com/wp-content/uploads/2026/01/half-marathon-san-sebastian.webp
END:VEVENT
END:VCALENDAR