BEGIN:VCALENDAR
VERSION:2.0
PRODID:-//Medias Maratones Espana - ECPv6.15.20//NONSGML v1.0//EN
CALSCALE:GREGORIAN
METHOD:PUBLISH
X-ORIGINAL-URL:https://mediasmaratonesespana.eu.com
X-WR-CALDESC:Events for Medias Maratones Espana
REFRESH-INTERVAL;VALUE=DURATION:PT1H
X-Robots-Tag:noindex
X-PUBLISHED-TTL:PT1H
BEGIN:VTIMEZONE
TZID:Europe/Madrid
BEGIN:DAYLIGHT
TZOFFSETFROM:+0100
TZOFFSETTO:+0200
TZNAME:CEST
DTSTART:20250330T010000
END:DAYLIGHT
BEGIN:STANDARD
TZOFFSETFROM:+0200
TZOFFSETTO:+0100
TZNAME:CET
DTSTART:20251026T010000
END:STANDARD
BEGIN:DAYLIGHT
TZOFFSETFROM:+0100
TZOFFSETTO:+0200
TZNAME:CEST
DTSTART:20260329T010000
END:DAYLIGHT
BEGIN:STANDARD
TZOFFSETFROM:+0200
TZOFFSETTO:+0100
TZNAME:CET
DTSTART:20261025T010000
END:STANDARD
BEGIN:DAYLIGHT
TZOFFSETFROM:+0100
TZOFFSETTO:+0200
TZNAME:CEST
DTSTART:20270328T010000
END:DAYLIGHT
BEGIN:STANDARD
TZOFFSETFROM:+0200
TZOFFSETTO:+0100
TZNAME:CET
DTSTART:20271031T010000
END:STANDARD
END:VTIMEZONE
BEGIN:VEVENT
DTSTART;TZID=Europe/Madrid:20260322T090000
DTEND;TZID=Europe/Madrid:20260322T120000
DTSTAMP:20260420T205550
CREATED:20260108T222717Z
LAST-MODIFIED:20260108T222717Z
UID:139-1774170000-1774180800@mediasmaratonesespana.eu.com
SUMMARY:Half Marathon Elche - 22. March 2026
DESCRIPTION:Elche Half Marathon 2026 – 22nd March\nDiscover the perfect blend of city and nature on this stunning flat course through the heart of Elche! 🤩 \nThe Course \nExperience a beautifully flat\, fast 21.0975km single-loop route that’s ideal for setting personal bests – completely free of hills! 😎 \nStarting from Elche Park\, you’ll head along Avenida Alcalde Vicente Quiles before turning back past the charming Jardín de Tolosa. The opening section is wonderfully straight and flat\, allowing you to find your rhythm early. \n\n  \nRoute Highlights\nNavigate through Elche’s magnificent natural spaces 🌿: \n\nElche Park 📍 – Your start and finish point\nHort de Botella – Stunning natural landscapes\nTorre de la Calahorra – Historic tower landmark\nGran Teatro de Elche – The city’s impressive Grand Theatre\nMultiple city gardens 🌳 – Lush green spaces throughout\n\nLoop back towards Parc metro station\, turn left towards Torre de la Calahorra\, and admire the Gran Teatro de Elche. Complete a final scenic circuit through the city’s beautiful gardens before returning to the finish line 🏁 along the main avenue. \nEvent Details \n\nDate: Sunday\, 22nd March 2026\nStart Time: 9:00 (specific wave times based on your estimated finish)\nStart/Finish: Elche-Park Station\nCourse: 1 loop × 21.0975km\nTerrain: Completely flat – perfect for PBs!\n\nAdditional Distances \n\n10km Race – Also starting at 9:00\nChildren’s Races – Fun runs for young athletes\n\nAge Requirements \n\nHalf Marathon: 18+ years on race day\n10km: 16+ years on race day\nMinors require parental consent during registration\n\nTime Limits \n\nHalf Marathon: 2 hours 30 minutes\n10km: 1 hour 15 minutes\n\nWhat’s Included \n✓ Race number with timing chip\n✓ Technical race t-shirt\n✓ Finisher’s medal (for all who complete within time limit)\n✓ Finish line towel\n✓ Post-race isotonic drinks and refreshments\n✓ Free chip timing\n✓ Reserved team area for groups of 20+ participants \nRegistration Fees \nHalf Marathon: \n\nUntil 11th January 2026: €29\n12th January – 8th February 2026: €31\n9th February – 15th March 2026: €34\n\n10km: \n\nUntil 11th January 2026: €20\n12th January – 8th February 2026: €22\n9th February – 15th March 2026: €24\n\nAdd €3 for a day licence if you don’t hold a Spanish Athletics Federation licence. \nRunner Expo – Bib Collection \nCollect your race pack at the Runner Expo at Elche-Park Station start/finish area: \n\nFriday\, 20th March: 17:30–20:30\nSaturday\, 21st March: 10:00–14:00 and 16:00–20:30\nSunday\, 22nd March: Up to 1 hour before race start\n\nMedical Certificate \nNo medical certificate required. \nWhy Choose Elche?\n🏘️ Scenic city centre running 🗽 Memorable landmarks and cultural sites 🌳 Beautiful parks and natural spaces 😎 Completely flat\, fast course 🤩 Perfect for runners of all abilities \nRegister Now \nSecure your place in this spectacular Mediterranean half marathon and enjoy the perfect combination of urban culture and natural beauty!
URL:https://mediasmaratonesespana.eu.com/event/half-marathon-elche/
CATEGORIES:Valencian
ATTACH;FMTTYPE=image/webp:https://mediasmaratonesespana.eu.com/wp-content/uploads/2026/01/elche-half-marathon.webp
END:VEVENT
END:VCALENDAR