BEGIN:VCALENDAR
VERSION:2.0
PRODID:-//Medias Maratones Espana - ECPv6.15.20//NONSGML v1.0//EN
CALSCALE:GREGORIAN
METHOD:PUBLISH
X-ORIGINAL-URL:https://mediasmaratonesespana.eu.com
X-WR-CALDESC:Events for Medias Maratones Espana
REFRESH-INTERVAL;VALUE=DURATION:PT1H
X-Robots-Tag:noindex
X-PUBLISHED-TTL:PT1H
BEGIN:VTIMEZONE
TZID:Europe/Madrid
BEGIN:DAYLIGHT
TZOFFSETFROM:+0100
TZOFFSETTO:+0200
TZNAME:CEST
DTSTART:20250330T010000
END:DAYLIGHT
BEGIN:STANDARD
TZOFFSETFROM:+0200
TZOFFSETTO:+0100
TZNAME:CET
DTSTART:20251026T010000
END:STANDARD
BEGIN:DAYLIGHT
TZOFFSETFROM:+0100
TZOFFSETTO:+0200
TZNAME:CEST
DTSTART:20260329T010000
END:DAYLIGHT
BEGIN:STANDARD
TZOFFSETFROM:+0200
TZOFFSETTO:+0100
TZNAME:CET
DTSTART:20261025T010000
END:STANDARD
BEGIN:DAYLIGHT
TZOFFSETFROM:+0100
TZOFFSETTO:+0200
TZNAME:CEST
DTSTART:20270328T010000
END:DAYLIGHT
BEGIN:STANDARD
TZOFFSETFROM:+0200
TZOFFSETTO:+0100
TZNAME:CET
DTSTART:20271031T010000
END:STANDARD
END:VTIMEZONE
BEGIN:VEVENT
DTSTART;TZID=Europe/Madrid:20260426T080000
DTEND;TZID=Europe/Madrid:20260426T140000
DTSTAMP:20260423T104714
CREATED:20260422T180459Z
LAST-MODIFIED:20260422T180459Z
UID:221-1777190400-1777212000@mediasmaratonesespana.eu.com
SUMMARY:Zurich Rock 'n' Roll Madrid Marathon
DESCRIPTION:Zurich Rock ‘n’ Roll Running Series Madrid 2026 26 April 2026 — Madrid\, Spain\nOn 26 April 2026\, Madrid will once again become the epicentre of the world’s biggest running party. The Zurich Rock ‘n’ Roll Running Series Madrid celebrates its 48th edition\, and 47\,000 runners from around the globe are expected to take to the streets of the Spanish capital for a day of sport\, music\, and pure spectacle. \nThree distances for every runner \nThe event caters to all levels\, offering a Marathon\, Half Marathon\, and 10K. Both the Marathon and Half Marathon set off at 8:45 am\, while the 10K gets underway slightly earlier at 8:00 am. The course passes through the most beautiful and iconic landmarks in the heart of Madrid\, making it as much a sightseeing tour as a race. \nA running party like no other \nWhat sets this event apart is its atmosphere. More than 30 live entertainment stages and music stations are spread along the course\, keeping the energy high from start to finish. Thousands of spectators line the streets on race day\, turning the entire city into one enormous\, open-air celebration. \nA truly global event \nWith over 10\,000 international runners arriving from 110 countries\, the Madrid race is one of the most internationally diverse events on the European running calendar. It is organised by AD. MAPOMA and forms part of the Rock ‘n’ Roll Running Series — the world’s largest running series\, comprising 31 marathon and half marathon events worldwide. \nWhether you’re chasing a personal best or just want to experience one of Europe’s great sporting occasions\, Madrid on 26 April promises to be unforgettable. \nLet’s Rock Madrid!
URL:https://mediasmaratonesespana.eu.com/event/zurich-rock-n-roll-madrid-marathon/
CATEGORIES:Madrid
ATTACH;FMTTYPE=image/webp:https://mediasmaratonesespana.eu.com/wp-content/uploads/2026/04/zurich-rock-n-roll-madrid.webp
END:VEVENT
BEGIN:VEVENT
DTSTART;TZID=Europe/Madrid:20260606T080000
DTEND;TZID=Europe/Madrid:20260607T170000
DTSTAMP:20260423T104714
CREATED:20260104T144624Z
LAST-MODIFIED:20260104T144624Z
UID:116-1780732800-1780851600@mediasmaratonesespana.eu.com
SUMMARY:Gladiator race Pontevedra - 6-7. June 2026
DESCRIPTION:Gladiator Race Pontevedra 2026\n6th June 2026 | A Illa das Esculturas\, Pontevedra \nAre you ready to test your limits? Join us for the ultimate obstacle course challenge at Gladiator Race Pontevedra 2026! \nThe Challenge\nFace an epic 8-kilometre outdoor circuit featuring over 40 demanding obstacles designed to push your physical and mental boundaries. Navigate through water challenges\, mud pits\, and various tests of strength and endurance that will challenge every aspect of your fitness. \nEvent Details\n\nDate: Friday\, 6th June 2026\nFirst Wave: 16:00\nLocation: A Illa das Esculturas\, Pontevedra\nMinimum Age: 16 years (under 18s require guardian authorisation)\n\nCategories\n\nELITE: For serious competitors seeking the ultimate challenge with strict obstacle completion rules\nOPEN: For everyone! Receive help from fellow participants and take on penalty burpees if you can’t complete an obstacle\nTEAM: Gather 5 or more friends and compete together\n\nWhat’s Included\n\nTimed chip registration\nPost-race refreshments and food\nShowers and changing facilities\nEntertainment zones with DJs throughout the course\nFinisher’s medal (for those who complete the course)\nBag storage\n\nEarly Bird Pricing\n\nUntil 31st December 2025: €34\n1st January – 31st March 2026: €38\n1st April – 15th May 2026: €42\n16th May – 2nd June 2026: €45\n\nGroups of 20+ enjoy special rates at €32 per person (terms apply). \nRegister Now\nSpaces are limited to 120 participants per wave. Choose your preferred start time when you register at www.gladiatorraceoficial.com \nWill you conquer the course or will the course conquer you? There’s only one way to find out! \nAll participants compete at their own risk. Please ensure you’re in good physical health before registering. \nSource: https://gladiatorraceoficial.com/
URL:https://mediasmaratonesespana.eu.com/event/gladiator-race-pontevedra/
CATEGORIES:Galicia
ATTACH;FMTTYPE=image/webp:https://mediasmaratonesespana.eu.com/wp-content/uploads/2026/01/gladiator-race-pontevedra.webp
END:VEVENT
END:VCALENDAR