BEGIN:VCALENDAR
VERSION:2.0
PRODID:-//Medias Maratones Espana - ECPv6.15.20//NONSGML v1.0//EN
CALSCALE:GREGORIAN
METHOD:PUBLISH
X-WR-CALNAME:Medias Maratones Espana
X-ORIGINAL-URL:https://mediasmaratonesespana.eu.com
X-WR-CALDESC:Events for Medias Maratones Espana
REFRESH-INTERVAL;VALUE=DURATION:PT1H
X-Robots-Tag:noindex
X-PUBLISHED-TTL:PT1H
BEGIN:VTIMEZONE
TZID:Europe/Madrid
BEGIN:DAYLIGHT
TZOFFSETFROM:+0100
TZOFFSETTO:+0200
TZNAME:CEST
DTSTART:20250330T010000
END:DAYLIGHT
BEGIN:STANDARD
TZOFFSETFROM:+0200
TZOFFSETTO:+0100
TZNAME:CET
DTSTART:20251026T010000
END:STANDARD
BEGIN:DAYLIGHT
TZOFFSETFROM:+0100
TZOFFSETTO:+0200
TZNAME:CEST
DTSTART:20260329T010000
END:DAYLIGHT
BEGIN:STANDARD
TZOFFSETFROM:+0200
TZOFFSETTO:+0100
TZNAME:CET
DTSTART:20261025T010000
END:STANDARD
BEGIN:DAYLIGHT
TZOFFSETFROM:+0100
TZOFFSETTO:+0200
TZNAME:CEST
DTSTART:20270328T010000
END:DAYLIGHT
BEGIN:STANDARD
TZOFFSETFROM:+0200
TZOFFSETTO:+0100
TZNAME:CET
DTSTART:20271031T010000
END:STANDARD
END:VTIMEZONE
BEGIN:VEVENT
DTSTART;TZID=Europe/Madrid:20260201T100000
DTEND;TZID=Europe/Madrid:20260201T123000
DTSTAMP:20260421T004317
CREATED:20251229T211633Z
LAST-MODIFIED:20251230T171642Z
UID:76-1769940000-1769949000@mediasmaratonesespana.eu.com
SUMMARY:Half Marathon Terrassa - 1. February 2026
DESCRIPTION:Terrassa International Half Marathon 2026\nTake on the challenge of Catalonia’s vibrant industrial heartland at the Terrassa International Half Marathon on Sunday\, 1st February 2026 at 10:00\, where urban running meets genuine Catalan character. \nThe Course\nRight then! A half-marathon in a single loop—quite the proper challenge\, isn’t it? Let’s go! 😉 \nYou’ll head north from Rambla d’Ègara into the city towards the Museum of Science and Technology of Catalonia. From there\, the route continues alongside the Riera del Palau for a refreshing waterside stretch. Turn onto Avinguda Abat Marcet\, where you’ll encounter a gentle downhill section… 😛 But be careful to save some energy for the rest of the race! ⚠️ \nOh yes\, the race doesn’t end there\, my friend. After reaching the end of the avenue\, you’ll follow the Riera de les Arenes watercourse\, cross through the beautiful Vallparadis Park 🌳\, and return to Placeta de la Creu ⛲️ for a safe journey back. And there you have it—mission accomplished! 🤪 \nCourse Profile: Single loop with 159m elevation gain \nHalf Marathon Terrassa Race Details\nDistance: Half Marathon (21.097km)\nDate: Sunday\, 1st February 2026\nStart Time: 10:00\nStart Location: Parc dels Catalans\, corner of Dr. Cabanes Street\nTime Limit: 2 hours 30 minutes (broom wagon will follow the race; runners falling behind will be removed from the course) \nRegistration Fees\nHalf Marathon: \n\n1st April – 31st May: €22\n1st June – 31st August: €24\n1st September – 31st October: €26\n1st November – 31st December: €28\n1st January – 28th January: €30\nOn-site registration (31st January): €32\n\nSanti Centelles Race (5km): \n\n1st September – 31st October: €15\n1st November – 31st December: €16\n1st January – 28th January: €18\nOn-site registration: €20\n\nWhat’s Included\n\nPersonalised race number\nTiming chip\nOfficial t-shirt\nAccess to refreshment stations\nAccident insurance\nOfficial classification\n\nRace Pack Collection\nSaturday\, 31st January 2026: At the Runners’ Fair or on race day (express collection between 8:00 and 9:30) \nOn the Course\nRefreshment Stations: Located at 5km\, 10km\, 15km\, and at the finish line \nFacilities\nBaggage Storage: Free storage available at Fundació Busquets\nChanging Rooms & Showers: Available at Escola Pia school (entrance via Cisterna Street) \nAge Requirements\n\nHalf Marathon: Must be 18 years old (born before 2008)\nSanti Centelles Race (5km): 16 years old minimum; parental consent required for minors\n\nAwards & Classifications\nPrize-Giving Ceremony: 12:00 noon \nCategories: \n\nOverall classification: Top 3 men and women\nAge group classifications: U23\, Seniors\, Veterans 1\, 2\, 3 (see regulations for details)\nLocal runners and team classifications (combined times)\nClassifications based on chip time\, except overall podium (official time)\n\nPrizes are not cumulative\, except for awards designated for local runners. \nHalf Marathon Terrassa Important Information\nFull race regulations are available on the official website. \nExperience authentic Catalan running culture in Terrassa—a city with industrial heritage\, beautiful parks\, and a genuine racing atmosphere. Whether you’re chasing a PB or simply enjoying the unique urban-meets-nature route\, this half marathon delivers! 🏃‍♂️🌳 \n 
URL:https://mediasmaratonesespana.eu.com/event/half-marathon-terrassa/
CATEGORIES:Catalonia
ATTACH;FMTTYPE=image/jpeg:https://mediasmaratonesespana.eu.com/wp-content/uploads/2025/12/terrassa-half-marathon.jpg
END:VEVENT
BEGIN:VEVENT
DTSTART;TZID=Europe/Madrid:20260201T093000
DTEND;TZID=Europe/Madrid:20260201T170000
DTSTAMP:20260421T004317
CREATED:20251227T203218Z
LAST-MODIFIED:20251230T171705Z
UID:58-1769938200-1769965200@mediasmaratonesespana.eu.com
SUMMARY:Half Marathon Murcia - 1. February 2026
DESCRIPTION:Discover the vibrant capital of Spain’s sunny southeast at the Murcia Half Marathon on Sunday\, 1st February 2026 at 9:30\, where Mediterranean warmth meets urban excitement in this historic and lively city. \nThe Course\nThe half marathon follows the same route as the full marathon\, but you’ll only need to complete one loop! Running through Murcia’s characterful streets\, you’ll tackle a manageable 130m of elevation gain over the 21.0975km distance—enough to keep things interesting without being too challenging. The single-loop format means you can focus on your pace and enjoy the atmosphere of this spirited Murcian event! 😜 \nCourse Profile: Single 21.0975km loop with 130m elevation gain \nRace Details\nDistance: Half Marathon (21.0975km)\nDate: Sunday\, 1st February 2026\nStart Time: 9:30\nStart Location: Avenue Teniente Flomesta (next to Hacienda)\nTime Limit: 2 hours 45 minutes (with checkpoints along the course) \nRegistration Fees\nHalf Marathon: €35 \nAlso Available: \n\nFull Marathon: €88\n10km: €23\n\nRace Pack Collection\nCollect your race number near Murcia city centre at Avenida de la Marina Española\, 10\, 30007 Murcia: \n\nFriday\, 30th January 2026: 17:00–21:00\nSaturday\, 31st January 2026: 10:00–14:00 and 17:00–21:00\n\nOn the Course\nRefreshment Stations: Both solid and liquid refreshment stations will be positioned throughout the route \nImportant Information\nAge Requirement: You must be 18 years old on race day \nLicensing: Medical certificates are not mandatory in Spain. However\, you’ll need to pay a €4 licence fee during registration to ensure you’re covered by insurance during the race. This one-day licence is compulsory for participation. Only Spanish licences are accepted. \nRace Start Times (1st February 2026): \n\nMarathon & Half Marathon: 9:30\n10km: 8:45\n\nExperience the warmth and energy of Murcia—a city that perfectly blends rich cultural heritage with modern Spanish vitality. Whether you’re chasing a personal best or simply soaking up the Mediterranean atmosphere\, this half marathon offers an unforgettable running experience! 🏃‍♂️🌞
URL:https://mediasmaratonesespana.eu.com/event/half-marathon-murcia-2026/
CATEGORIES:Murcia
ATTACH;FMTTYPE=image/webp:https://mediasmaratonesespana.eu.com/wp-content/uploads/2025/12/murcia-half-marathon.webp
END:VEVENT
BEGIN:VEVENT
DTSTART;TZID=Europe/Madrid:20260125T093000
DTEND;TZID=Europe/Madrid:20260125T160000
DTSTAMP:20260421T004317
CREATED:20260102T105734Z
LAST-MODIFIED:20260102T105814Z
UID:92-1769333400-1769356800@mediasmaratonesespana.eu.com
SUMMARY:XIV Trail Ciudad de Palencia – Low Mountain Trail Race - 25. January 2026
DESCRIPTION:XIV Trail Ciudad de Palencia – Low Mountain Trail Race\nSunday\, 25th January 2026 | Palencia\, Spain \nJoin us for the 14th edition of the Trail Ciudad de Palencia\, a unique low mountain trail running event that embraces the philosophy: “Start when you want; arrive when you can.” \nEvent Details: \nThe race offers two challenging routes through the scenic terrain surrounding Palencia: \n\n23km route: Departures between 09:30 and 10:30\n12.5km route: Departures between 10:30 and 11:30\n\n23km trail race route\n12\,5 km race route\nelevation of 23k Palencia trail\nStart Location: Dársena del Canal de Palencia (Canal Basin) \n \nFormat: Individual time trial with flexible start times within the designated windows. Both races close at 13:45. \nWhat’s Included: \n\nElectronic timing chip (sport-ident system with mandatory checkpoints)\n€20 deposit in cash for the timing chip – which will be given back on arrival (make sure its not lost or broken)\nRace number\nAccident insurance\nRefreshment stations throughout the course (water\, isotonic drinks\, and a finish line station with hot beverages\, fruit\, and nuts)\nFinisher’s gift\nPost-race showers\n\nEntry Fees: \n\nStandard: €15\nCadets (14-17 years): €9\n\nCategories: Male and female divisions across five age groups: Cadet (14-17)\, Senior (18-34)\, Veteran A (35-44)\, Veteran B (45-54)\, and Veteran C (55+) \nPrizes: Awards for overall winners and top three finishers in each category (minimum 7 participants required for full podium) \nImportant Notes: \n\n€20 chip deposit required at race number collection (refunded upon chip return)\nRegistration closes Wednesday\, 21st January 2026 at 23:59\nRace number collection from 08:30 on race day\n\nFor more information: \nlinumbercoactividades@gmail.com\nhttps://copaventura.blogspot.com/p/trail-ciudad-de-palencia.html\nTel: 696 495 358
URL:https://mediasmaratonesespana.eu.com/event/xiv-trail-ciudad-de-palencia-trail-race/
CATEGORIES:Castilla y Leon
ATTACH;FMTTYPE=image/jpeg:https://mediasmaratonesespana.eu.com/wp-content/uploads/2026/01/palencia-trail-25-january-2026.jpg
END:VEVENT
BEGIN:VEVENT
DTSTART;TZID=Europe/Madrid:20260125T090000
DTEND;TZID=Europe/Madrid:20260125T170000
DTSTAMP:20260421T004317
CREATED:20251227T202034Z
LAST-MODIFIED:20251230T171809Z
UID:53-1769331600-1769360400@mediasmaratonesespana.eu.com
SUMMARY:Half Marathon Sevilla - 25. January 2026
DESCRIPTION:Experience the magic of Andalusia’s capital at the Seville Half Marathon on Sunday\, 25th January 2026 at 9:00\, where historic charm and riverside running combine in one of Spain’s most captivating cities. \nThe Course\nStarting from Paseo de las Delicias\, you’ll embark on a spectacular 21km journey through Seville’s enchanting streets! The first 4 kilometres take you along the banks of the Guadalquivir River\, offering stunning riverside views before crossing a bridge to return along the opposite bank. \nYou’ll venture into the heart of the city until the 12km mark\, where another bridge crossing awaits. The next 4 kilometres retrace the route of the opening kilometres before heading northward until kilometre 17. From here\, it’s time to push towards the finish line as you weave through Seville’s charming streets and alleyways! An exceptional finish awaits you back at Paseo de las Delicias promenade! 🏁 \nCourse Profile: Single 21.0975km loop with just 26m of elevation gain—ideal for personal bests! \nRace Details\nDistance: Half Marathon (21.0975km)\nDate: Sunday\, 25th January 2026\nStart Time: 9:00\nLocation: Paseo de las Delicias\, Seville\nTime Limit: 3 hours \nRace Pack Collection\nCollect your race pack and bib number on 23rd and 24th January 2026 between 10:00 and 20:00. The exact location will be confirmed closer to the event. \nOn the Course\nRefreshment Stations: Located at 5km\, 10km\, 15.5km\, 18.5km\, and at the finish line\nFacilities: Details to be confirmed \nAwards\nPrizes will be presented to: \n\nTop 3 male finishers\nTop 3 female finishers\nTop 3 wheelchair participants\n\nImportant Information\nFull race regulations are available on the official website. \nRun through the historic streets of Seville\, alongside the iconic Guadalquivir River\, and experience the perfect blend of culture\, history\, and athletic achievement in one of Spain’s most beautiful cities!
URL:https://mediasmaratonesespana.eu.com/event/half-marathon-sevilla/
CATEGORIES:Andalusia
ATTACH;FMTTYPE=image/webp:https://mediasmaratonesespana.eu.com/wp-content/uploads/2025/12/half-marathon-sevilla.webp
END:VEVENT
BEGIN:VEVENT
DTSTART;TZID=Europe/Madrid:20260118T103000
DTEND;TZID=Europe/Madrid:20260118T170000
DTSTAMP:20260421T004317
CREATED:20251227T195842Z
LAST-MODIFIED:20251230T171903Z
UID:36-1768732200-1768755600@mediasmaratonesespana.eu.com
SUMMARY:Half Marathon Santa Pola - 18. January 2026
DESCRIPTION:Join us for the Santa Pola Half Marathon on Sunday\, 18th January 2026 at 10:30\, where Mediterranean charm meets athletic challenge along the stunning Costa Blanca. \nThe Course\nStarting from the harbour car park on Fernando Pérez Ojeda Street\, you’ll embark on a scenic 21.0975km single-loop journey through the heart of Santa Pola. The route takes you westward through the town centre before heading along a main road between kilometres 2 and 4. A distinctive hairpin turn around one of the harbour’s jetties offers a unique maritime atmosphere and picturesque views. \nFrom 8km onwards\, you’ll run between the Mediterranean Sea and charming seaside villas until the 10km mark—an idyllic stretch with breathtaking coastal vistas. A left turn brings you back towards the town centre via Almirante Antequera Street\, passing a children’s playground surrounded by welcome greenery around the 15km point. The final three kilometres follow the same route as kilometres 4\, 5\, and 6\, ensuring a familiar finish on recognisable terrain. \nRace Details\nDistance: Half Marathon (21.0975km)\nDate: Sunday\, 18th January 2026\nStart Time: 10:30\nLocation: Fernando Pérez Ojeda Street\, Santa Pola \nRegistration Fees\n\n1st September – 31st October 2025: €27\n1st November – 31st December 2025: €30\n1st January – 14th January 2026 (up to 7\,000 runners): €35\nAfter 7\,000 registrations: €40\n\nRace Pack Collection\nCollect your race number at the Runners’ Fair\, held at Santa Pola’s Castle-Fort: \n\nFriday\, 16th January: 17:00–20:30\nSaturday\, 17th January: 10:00–20:00\n\nOn the Course\nRefreshment Stations: Located at 5km\, 10km\, 15km\, and 20km\nFacilities: Changing rooms and secure baggage storage provided \nImportant Information\nAge Requirement: Participants must be at least 18 years old \nLicensing: In Spain\, you’ll need either a national RFEA licence or a FACV card from the Valencian Community to participate in official events. If you don’t have one\, an additional €3 fee will be charged during registration to obtain this. \nMedical Certificate: Not mandatory \nExperience the perfect blend of coastal beauty\, urban atmosphere\, and athletic achievement at the Santa Pola Half Marathon—where every kilometre offers something special! 🏃‍♂️🌊 \n \n 
URL:https://mediasmaratonesespana.eu.com/event/half-marathon-santa-pola/
CATEGORIES:Alicante
ATTACH;FMTTYPE=image/webp:https://mediasmaratonesespana.eu.com/wp-content/uploads/2025/12/half-marathon-santa-pola.webp
END:VEVENT
END:VCALENDAR