BEGIN:VCALENDAR
VERSION:2.0
PRODID:-//Medias Maratones Espana - ECPv6.15.20//NONSGML v1.0//EN
CALSCALE:GREGORIAN
METHOD:PUBLISH
X-WR-CALNAME:Medias Maratones Espana
X-ORIGINAL-URL:https://mediasmaratonesespana.eu.com
X-WR-CALDESC:Events for Medias Maratones Espana
REFRESH-INTERVAL;VALUE=DURATION:PT1H
X-Robots-Tag:noindex
X-PUBLISHED-TTL:PT1H
BEGIN:VTIMEZONE
TZID:Europe/Madrid
BEGIN:DAYLIGHT
TZOFFSETFROM:+0100
TZOFFSETTO:+0200
TZNAME:CEST
DTSTART:20250330T010000
END:DAYLIGHT
BEGIN:STANDARD
TZOFFSETFROM:+0200
TZOFFSETTO:+0100
TZNAME:CET
DTSTART:20251026T010000
END:STANDARD
BEGIN:DAYLIGHT
TZOFFSETFROM:+0100
TZOFFSETTO:+0200
TZNAME:CEST
DTSTART:20260329T010000
END:DAYLIGHT
BEGIN:STANDARD
TZOFFSETFROM:+0200
TZOFFSETTO:+0100
TZNAME:CET
DTSTART:20261025T010000
END:STANDARD
BEGIN:DAYLIGHT
TZOFFSETFROM:+0100
TZOFFSETTO:+0200
TZNAME:CEST
DTSTART:20270328T010000
END:DAYLIGHT
BEGIN:STANDARD
TZOFFSETFROM:+0200
TZOFFSETTO:+0100
TZNAME:CET
DTSTART:20271031T010000
END:STANDARD
END:VTIMEZONE
BEGIN:VEVENT
DTSTART;TZID=Europe/Madrid:20260222T093000
DTEND;TZID=Europe/Madrid:20260222T120000
DTSTAMP:20260420T224733
CREATED:20260104T215129Z
LAST-MODIFIED:20260104T215319Z
UID:123-1771752600-1771761600@mediasmaratonesespana.eu.com
SUMMARY:Half Marathon Alicante - 22. February 2026
DESCRIPTION:Experience the beauty of Spain’s Costa Blanca at the Alicante Half Marathon on Sunday\, 22nd February 2026 at 9:30\, where Mediterranean coastline meets historic city charm in one spectacular race. \nThe Course\nThe start\, shared with the 10km race\, is set in Alicante’s harbour with stunning views of the Santa Barbara Castle 🏰. The route passes at the foot of Benacantil Mountain before reaching La Albuferita beach\, where a turning point leads you back alongside the city centre and the sea 🌊. \nYou’ll cross through the harbour again to embark on the second part of the course—a true visual feast for the eyes: the Town Hall\, gardens\, Plaza de Los Luceros\, the Central Market\, theatre\, Plaza de Toros… 🥰 This is a genuine tourist tour of the city that this Alicante half marathon offers you. Enjoy! Finally\, you’ll return to the harbour where the finish line awaits you with open arms 🙌. \nCourse Profile: Single 21.0975km loop \nRace Details\nDistance: Half Marathon (21.0975km)\nDate: Sunday\, 22nd February 2026\nStart Time: 9:30\nStart Location: Quay 12 (Ocean Race area)\, Alicante Harbour\nTime Limit: 2 hours 30 minutes \nAlso Available: 10km race (Time Limit: 1 hour 30 minutes) \nRace Pack Collection\nCollect your race number at The Runner’s Landing at the Runners’ Expo\, Quay 12 (Ocean Race area): \n\nFriday\, 20th February 2026: 17:00–20:00\nSaturday\, 21st February 2026: 10:00–14:00 and 17:00–20:00\nSunday\, 22nd February 2026: 7:30–9:00\n\nStarting Waves\nRaces are organised by colour-coded starting corrals based on estimated finish times: \nHalf Marathon (21km): \n\nRed bib: Up to 1 hour 20 minutes\nGreen bib: 1 hour 20 minutes to 1 hour 35 minutes\nBlue bib: 1 hour 35 minutes to 1 hour 45 minutes\nPurple bib: 1 hour 45 minutes to 2 hours\nOrange bib: Over 2 hours\n\n10km: \n\nRed bib: Up to 40 minutes\nGreen bib: 40 to 45 minutes\nBlue bib: 45 to 50 minutes\nPurple bib: 50 to 55 minutes\nOrange bib: Over 55 minutes\n\nOn the Course\nRefreshment Stations (Half Marathon): Located at 5km\, 10km\, and 15km \n \nTime Limits & Checkpoints\nHalf Marathon Checkpoints: \n\n5km: 40 minutes\n10km: 1 hour 10 minutes\n15km: 1 hour 45 minutes\n20km: 2 hours 20 minutes\nFinish: 2 hours 30 minutes\n\nAwards & Prizes\nCash Prizes for the top three male and female half marathon finishers: \n\n1st Place: €500\n2nd Place: €400\n3rd Place: €300\n\nTrophies will be awarded to the top five male and female finishers in both the half marathon and 10km\, as well as to the club with the most participants. \nEvery finisher receives a commemorative certificate! \nFacilities & Services\nMedical Support: Medical services will be available throughout the race and at the finish line \nAccessibility: Facilities for people with reduced mobility are available at the start and finish lines \nTransport: Several bus routes stop near the start and finish area \nAge Requirements\nMinimum Age: Must be at least 18 years old to participate in both the half marathon and 10km race \nParental Consent: Runners under 18 must present a signed parental consent form to participate \nImportant Information\nMedical Certificate: Not required\, but all participants are advised to undergo a medical examination before the event \nContact: \n\nEmail: inforunners.montemar@gmail.com\nPhone: 675 87 57 67\n\nRace Regulations: Full regulations available on the official website \nRun through Alicante’s stunning harbour\, past historic landmarks\, along beautiful beaches\, and through the vibrant heart of this Mediterranean gem. The Alicante Half Marathon offers the perfect combination of coastal scenery\, cultural heritage\, and warm Spanish hospitality! 🏃‍♂️🌊
URL:https://mediasmaratonesespana.eu.com/event/half-marathon-alicante/
CATEGORIES:Valencian
ATTACH;FMTTYPE=image/webp:https://mediasmaratonesespana.eu.com/wp-content/uploads/2026/01/half-marathon-alicante.webp
END:VEVENT
BEGIN:VEVENT
DTSTART;TZID=Europe/Madrid:20260222T100000
DTEND;TZID=Europe/Madrid:20260222T123000
DTSTAMP:20260420T224733
CREATED:20251230T142936Z
LAST-MODIFIED:20251230T142936Z
UID:85-1771754400-1771763400@mediasmaratonesespana.eu.com
SUMMARY:Half Marathon Medina del Campo - 22. February 2026
DESCRIPTION:XLI Medio Maratón Popular de Medina del Campo & 10K Villa de Las Ferias\nDate: Sunday\, February 22\, 2026\nStart Time: 10:00 AM\nLocation: Plaza Mayor\, Medina del Campo\, Spain \nAbout the Event\nJoin us for the 41st edition of the Medio Maratón Popular de Medina del Campo\, a celebrated running event organized with the sponsorship of the Municipal Sports Service of Medina del Campo. This race welcomes runners of all levels\, whether federated athletes or recreational runners\, for a day of sport and community in the historic Plaza Mayor. \n  \nRace Options\nHalf Marathon (21.097 km)\nA challenging half marathon course starting and finishing in the picturesque Plaza Mayor. Runners will experience the beautiful streets of Medina del Campo with refreshment stations every 5 kilometers. \nCutoff Times: \n\nKilometer 10: 1 hour 11 minutes\nKilometer 15: 1 hour 46 minutes\nFinal cutoff: 2 hours 15 minutes (12:15 PM)\n\n10K Villa de Las Ferias\nA faster-paced 10-kilometer race sharing the same start and finish line\, perfect for those seeking a shorter challenge or looking to set a personal best. \nRace Course\n \nParticipant Information\nEligibility: Open to all runners born in 2008 or earlier (18+ on race day) \nRegistration Fees: \n\nEarly Bird (October 25 – February 14): €16 Half Marathon / €12 10K\nLate Registration (February 15-19): €20 Half Marathon / €16 10K\n\nT-shirt Size Guarantee: Register before February 7 at 23:59 to guarantee your preferred t-shirt size. \nRace Day Services\n\nBib Collection: Saturday\, February 21 (5:00-8:00 PM) or Sunday morning (8:45-9:30 AM) at Plaza del Ayuntamiento\nGear Check: Available at Plaza Mayor\nMedical Support: Ambulance and medical center on-site\nRefreshments: Water stations every 5km\, plus post-race refreshments\nShowers: Available at Pabellón Municipal Pablo Cáceres and Pabellón Barrientos\nPhysiotherapy: Free post-race physiotherapy services at the finish area\n\nHalf Marathon Medina del Campo – Awards Ceremony\n12:30 PM at Plaza Mayor \nHalf Marathon Awards: \n\nTop 3 overall (men and women)\nTop 3 in each age category\nLocal runner awards (separate categories for residents of Medina del Campo)\nClub participation awards\n\n10K Awards: \n\nTop 3 overall (men and women)\n1st place in each age category\n\nAge Categories\nFrom Sub-20 (born 2007-2008) through Master G (65+)\, with divisions including Senior\, and Masters A through G categories for both distances. \nImportant Notes\n\nBib numbers are personal and non-transferable\n10K runners must wear two identical bibs (chest and back)\nTiming chip must be visible at all times\nAll participants must complete the full course\nInsurance coverage included for non-federated runners\n\nHalf Marathon Medina del Campo – Registration & Information\nWebsite: mediamaratondemedina.com | www.runvasport.es\nEmail: deportes@ayto-medinadelcampo.es\nPhone: 983810144 or 983812582 \nExperience the tradition\, challenge yourself\, and be part of Medina del Campo’s premier running event! \nPrizes not collected on race day must be claimed by March 31 at the Municipal Sports Service or will be forfeited.
URL:https://mediasmaratonesespana.eu.com/event/half-marathon-medina-del-campo/
CATEGORIES:Castilla y Leon
ATTACH;FMTTYPE=image/jpeg:https://mediasmaratonesespana.eu.com/wp-content/uploads/2025/12/half-marathon-medina-del-campo.jpg
END:VEVENT
BEGIN:VEVENT
DTSTART;TZID=Europe/Madrid:20260222T100000
DTEND;TZID=Europe/Madrid:20260222T140000
DTSTAMP:20260420T224733
CREATED:20260104T155607Z
LAST-MODIFIED:20260104T155607Z
UID:120-1771754400-1771768800@mediasmaratonesespana.eu.com
SUMMARY:Half Marathon Irun-Hondarribia - 22. February 2026
DESCRIPTION:Discover the stunning Basque coastline at the Irun-Hondarribia Half Marathon on Sunday\, 22nd February 2026 at 10:00\, where river\, sea\, and historic towns combine for an unforgettable running experience. \nThe Course\nThe race starts from Paseo de Colón in Irun 📍. The route follows the picturesque Bidasoa River to Fontarrabia (Hondarribia)\, arriving at the charming harbour and bay 😍. After soaking in the coastal atmosphere\, you’ll return to Irun. The second part of the course takes you through the town and continues along the Bidasoa River 💧\, passing notable landmarks including the Santa María Gate and the Roman Museum 🏛️. After completing your loops\, congratulations champion! You’ll arrive at Urdanibia Square to collect your well-earned medal 🏅. \nCourse Profile: Single 21.0975km loop \nRace Details\nDistance: Half Marathon (21.0975km)\nDate: Sunday\, 22nd February 2026\nStart Time: 10:00\nStart Location: Paseo de Colón 6\, Irun\nTime Limit: 2 hours 30 minutes \nAlso Available: 10km race starting at 9:50 \nRegistration Fees\nHalf Marathon: \n\nPhase 1 (first 150 entries): €23\nPhase 2 (up to 300 entries): €27\nPhase 3 (until 12th February 2026): €32\nPhase 4 (until 20th February 2026): €37\n\n10km: \n\nPhase 1 (first 150 entries): €17\nPhase 2 (until 12th February 2026): €21\nPhase 3 (until 20th February 2026): €26\n\nRace Pack Collection\nCollect your race number at Deportes González (Calle Fuenterrabía s/n\, 20301 Irun): \n\nThursday\, 19th February 2026: 16:00–20:00\nFriday\, 20th February 2026: 10:00–13:00 and 16:00–20:00\nSaturday\, 21st February 2026: 10:00–13:00 and 16:00–20:00\nSunday\, 22nd February (Race Day): 8:15–9:30 at Uranzu Frontón\n\nOn the Course\nRefreshment Stations (Half Marathon): 5 stations positioned at: \n\n3.2km\n7.5km\n11.8km\n14.9km\n18.4km\nFull refreshment station at the finish line\n\nRefreshment Stations (10km): 2 stations at: \n\n3.8km\n7.3km\nFull refreshment station at the finish line\n\nTime Limits & Checkpoints\nHalf Marathon Checkpoints: \n\n5km: 35 minutes\n10km: 1 hour 10 minutes\n15km: 1 hour 45 minutes\n20km: 2 hours 20 minutes\nFinish: 2 hours 30 minutes\n\n10km Time Limit: 1 hour 10 minutes \nAge Requirements\n\nHalf Marathon: Must be at least 16 years old before 22nd February 2026 (born before 22nd February 2010)\n10km: Must be at least 14 years old before 22nd February 2026 (born before 22nd February 2012)\n\nExperience the beauty of the Basque Country as you run between two charming towns\, alongside the tranquil Bidasoa River\, and through streets steeped in history. The Irun-Hondarribia Half Marathon offers a perfect blend of coastal scenery\, cultural landmarks\, and authentic Basque atmosphere! 🏃‍♂️🌊
URL:https://mediasmaratonesespana.eu.com/event/half-marathon-irun-hondarribia/
CATEGORIES:Basque
ATTACH;FMTTYPE=image/webp:https://mediasmaratonesespana.eu.com/wp-content/uploads/2026/01/half-marathon-irun-bidasola.webp
END:VEVENT
END:VCALENDAR