BEGIN:VCALENDAR
VERSION:2.0
PRODID:-//Medias Maratones Espana - ECPv6.15.20//NONSGML v1.0//EN
CALSCALE:GREGORIAN
METHOD:PUBLISH
X-WR-CALNAME:Medias Maratones Espana
X-ORIGINAL-URL:https://mediasmaratonesespana.eu.com
X-WR-CALDESC:Events for Medias Maratones Espana
REFRESH-INTERVAL;VALUE=DURATION:PT1H
X-Robots-Tag:noindex
X-PUBLISHED-TTL:PT1H
BEGIN:VTIMEZONE
TZID:Europe/Madrid
BEGIN:DAYLIGHT
TZOFFSETFROM:+0100
TZOFFSETTO:+0200
TZNAME:CEST
DTSTART:20250330T010000
END:DAYLIGHT
BEGIN:STANDARD
TZOFFSETFROM:+0200
TZOFFSETTO:+0100
TZNAME:CET
DTSTART:20251026T010000
END:STANDARD
BEGIN:DAYLIGHT
TZOFFSETFROM:+0100
TZOFFSETTO:+0200
TZNAME:CEST
DTSTART:20260329T010000
END:DAYLIGHT
BEGIN:STANDARD
TZOFFSETFROM:+0200
TZOFFSETTO:+0100
TZNAME:CET
DTSTART:20261025T010000
END:STANDARD
BEGIN:DAYLIGHT
TZOFFSETFROM:+0100
TZOFFSETTO:+0200
TZNAME:CEST
DTSTART:20270328T010000
END:DAYLIGHT
BEGIN:STANDARD
TZOFFSETFROM:+0200
TZOFFSETTO:+0100
TZNAME:CET
DTSTART:20271031T010000
END:STANDARD
END:VTIMEZONE
BEGIN:VEVENT
DTSTART;TZID=Europe/Madrid:20260215T083000
DTEND;TZID=Europe/Madrid:20260215T110000
DTSTAMP:20260420T224852
CREATED:20251229T213737Z
LAST-MODIFIED:20251230T171544Z
UID:82-1771144200-1771153200@mediasmaratonesespana.eu.com
SUMMARY:Half Marathon Barcelona - 15. February 2026
DESCRIPTION:Experience the magic of Catalunya’s capital at the Barcelona Half Marathon by Brooks on Sunday\, 15th February 2026 at 8:30\, where 25\,000+ runners come together for one of Europe’s most spectacular and fastest urban races. \nThe Course\n21.0975km awaits you at the Mitja Marató Barcelona by Brooks! 🇪🇸 But this isn’t just any 21km 😜. It’s 21km of pure joy through the beautiful city of Barcelona on a fast\, flat course 📏—perfect for chasing personal bests 🚀. \nStarting (and finishing) in front of the magnificent Parc de la Ciutadella\, you’ll set off to discover the city 🏙️ and its most stunning historical monuments: the Christopher Columbus Monument\, Plaça d’Espanya\, and the iconic Arc de Triomf 😍. You’ll pass by Plaça de Catalunya and the breathtaking Sagrada Família\, running along Barcelona’s grandest avenues: Avenida del Paralelo\, Avenida del Litoral\, and Avenida Diagonal. Your final kilometres will be alongside the Mediterranean Sea\, with supporters 📣 and volunteers arriving in their thousands to cheer you on! \nAfter the effort comes the reward 😌. Swimming\, cocktails\, and tapas await you! Vamos! 🏃‍♀️ \nCourse Profile: Single 21.0975km loop with just 81m elevation gain—ideal for fast times!\nRecent Event: 25\,000+ runners \nRace Details\nDistance: Half Marathon (21.0975km)\nDate: Sunday\, 15th February 2026\nStart Time: 8:30\nStart Location: Parc de la Ciutadella\nTime Limit: 2 hours 45 minutes \nDifferent starting waves will be organised\, identified by unique colours—you can only enter the wave matching your bib number colour. \n \nRegistration Fees\n\nBibs 1–1\,000: €36\nBibs 1\,001–10\,000: €40\nBibs 10\,001–30\,000: €50\n\nWhat’s Included\n\nOfficial race t-shirt\nFinisher’s medal\nAccess to refreshment stations\nPost-race amenities\n\nRace Pack Collection\nCollect your race number at Fira de Barcelona\, Pavilion 2 (Carrer de Lleida 26\, Barcelona): \n\nThursday\, 12th February: 14:00–20:00\nFriday\, 13th February: 9:00–20:00\nSaturday\, 14th February: 9:00–20:00\n\nGetting There\nThe best way to reach the start line is by public transport\, particularly Line 1\, alighting at Arc de Triomf station. \nOn the Course\nRefreshment Stations: Positioned every 5km\, stocked with fruit and energy drinks\nEntertainment: More than 24 entertainment zones along the route creating a lively\, energetic atmosphere! \n\n \nPre-Race Services: \n\nBaggage storage available before the race\nElectrostimulation treatment (advance booking required at the event village)\n\nWeather\nIn February\, expect cool and sunny weather in Barcelona. There’s minimal chance of rain or wind—the sun will likely be your companion throughout the route. Dress accordingly and enjoy the Spanish climate! \nAccessibility & Inclusion\nVisually Impaired Runners: Register online and start from the first wave. Send a copy of your disability certificate to promocioesportiva2@bcn.cat after registration for classification and awards. Guides must identify themselves at info@zurichmaratobarcelona.es with full details. \nIntellectually Disabled Runners: Register online and start from the first wave. Submit a copy of your disability certificate to promocioesportiva2@bcn.cat after registration for classification and awards. \nWheelchair Participants: Register online and arrive at the start line one hour before the race begins. Contact organisers at info@edreamsmitjabarcelona.es. \nCharitable Running\nRun for a cause that matters to you! The organisers offer the opportunity to support a charity through the migranodearena.org crowdfunding platform. Create and run a campaign on migranodearena.org\, raising at least €500\, which will go to your chosen organisation. \nRegistration Changes\nUnfortunately\, registrations cannot be cancelled. However\, you can transfer your entry to another person until 15th December by contacting the organisers. A €15 transfer fee applies. \nImportant Information\nAge Requirement: Must be at least 18 years old on race day \nMedical Certificate: Not required in Spain \nRace Regulations: Full regulations available on the official website \nRun through one of the world’s most iconic cities\, past Gaudí’s masterpieces\, along sun-drenched boulevards\, and beside the sparkling Mediterranean. The Barcelona Half Marathon by Brooks combines culture\, history\, and coastal beauty with a lightning-fast course—perfect for PBs and unforgettable memories! 🏃‍♀️🌊
URL:https://mediasmaratonesespana.eu.com/event/half-marathon-barcelona/
CATEGORIES:Catalonia
ATTACH;FMTTYPE=image/webp:https://mediasmaratonesespana.eu.com/wp-content/uploads/2025/12/half-marathon-barcelona-2026.webp
END:VEVENT
END:VCALENDAR